BEGIN:VCALENDAR
VERSION:2.0
PRODID:-//UCLA Naval Science - ECPv6.15.13//NONSGML v1.0//EN
CALSCALE:GREGORIAN
METHOD:PUBLISH
X-ORIGINAL-URL:https://navsci.ucla.edu
X-WR-CALDESC:Events for UCLA Naval Science
REFRESH-INTERVAL;VALUE=DURATION:PT1H
X-Robots-Tag:noindex
X-PUBLISHED-TTL:PT1H
BEGIN:VTIMEZONE
TZID:America/Los_Angeles
BEGIN:DAYLIGHT
TZOFFSETFROM:-0800
TZOFFSETTO:-0700
TZNAME:PDT
DTSTART:20220313T100000
END:DAYLIGHT
BEGIN:STANDARD
TZOFFSETFROM:-0700
TZOFFSETTO:-0800
TZNAME:PST
DTSTART:20221106T090000
END:STANDARD
BEGIN:DAYLIGHT
TZOFFSETFROM:-0800
TZOFFSETTO:-0700
TZNAME:PDT
DTSTART:20230312T100000
END:DAYLIGHT
BEGIN:STANDARD
TZOFFSETFROM:-0700
TZOFFSETTO:-0800
TZNAME:PST
DTSTART:20231105T090000
END:STANDARD
BEGIN:DAYLIGHT
TZOFFSETFROM:-0800
TZOFFSETTO:-0700
TZNAME:PDT
DTSTART:20240310T100000
END:DAYLIGHT
BEGIN:STANDARD
TZOFFSETFROM:-0700
TZOFFSETTO:-0800
TZNAME:PST
DTSTART:20241103T090000
END:STANDARD
END:VTIMEZONE
BEGIN:VEVENT
DTSTART;VALUE=DATE:20231030
DTEND;VALUE=DATE:20231031
DTSTAMP:20260425T083243
CREATED:20231023T220257Z
LAST-MODIFIED:20231023T220619Z
UID:3126-1698624000-1698710399@navsci.ucla.edu
SUMMARY:Panda Express Fundraiser
DESCRIPTION:Fundraiser for the UCLA Naval ROTC Bruin Battalion \n\nSave the date for Monday\, 30 October 2023\, to order out!\nOn event day\, go to www.pandaexpress.com to place your order for pickup or delivery.  This is a virtual fundraiser available at Panda Express locations nationwide.\nFor online orders: apply code 918651 in the Fundraiser Code box during your online checkout or via the App.\n\n  \n*28% of sales using our fundraiser code will be donated to the unit to support future training and morale-building events!
URL:https://navsci.ucla.edu/event/dine-in-fundraiser/
LOCATION:CA
END:VEVENT
END:VCALENDAR