BEGIN:VCALENDAR
VERSION:2.0
PRODID:-//UCLA Naval Science - ECPv6.15.13//NONSGML v1.0//EN
CALSCALE:GREGORIAN
METHOD:PUBLISH
X-ORIGINAL-URL:https://navsci.ucla.edu
X-WR-CALDESC:Events for UCLA Naval Science
REFRESH-INTERVAL;VALUE=DURATION:PT1H
X-Robots-Tag:noindex
X-PUBLISHED-TTL:PT1H
BEGIN:VTIMEZONE
TZID:America/Los_Angeles
BEGIN:DAYLIGHT
TZOFFSETFROM:-0800
TZOFFSETTO:-0700
TZNAME:PDT
DTSTART:20220313T100000
END:DAYLIGHT
BEGIN:STANDARD
TZOFFSETFROM:-0700
TZOFFSETTO:-0800
TZNAME:PST
DTSTART:20221106T090000
END:STANDARD
BEGIN:DAYLIGHT
TZOFFSETFROM:-0800
TZOFFSETTO:-0700
TZNAME:PDT
DTSTART:20230312T100000
END:DAYLIGHT
BEGIN:STANDARD
TZOFFSETFROM:-0700
TZOFFSETTO:-0800
TZNAME:PST
DTSTART:20231105T090000
END:STANDARD
BEGIN:DAYLIGHT
TZOFFSETFROM:-0800
TZOFFSETTO:-0700
TZNAME:PDT
DTSTART:20240310T100000
END:DAYLIGHT
BEGIN:STANDARD
TZOFFSETFROM:-0700
TZOFFSETTO:-0800
TZNAME:PST
DTSTART:20241103T090000
END:STANDARD
END:VTIMEZONE
BEGIN:VEVENT
DTSTART;TZID=America/Los_Angeles:20231109T110000
DTEND;TZID=America/Los_Angeles:20231109T130000
DTSTAMP:20260425T175054
CREATED:20231019T214752Z
LAST-MODIFIED:20231019T214752Z
UID:3114-1699527600-1699534800@navsci.ucla.edu
SUMMARY:UCLA Veterans Day Celebration
DESCRIPTION:  \nJoin Chancellor Gene Block and fellow Bruins for an engaging Veterans Day Celebration on Thursday\, November 9\, 2023 at the James West Alumni Center’s Collins Conference Room. \nPlease register for the celebration on the event website:  uclaspecialevents.ucla.edu/VeteransDayCelebration2023 \nEnjoy a complimentary lunch buffet. Get to know people in your community and make connections. Learn about the many resources available to you. Take this positive energy into the rest of your day\, knowing that your UCLA family salutes you! \nFor inquiries\, please email rsvp@specialevents.ucla.edu.
URL:https://navsci.ucla.edu/event/ucla-veterans-day-celebration-2/
LOCATION:UCLA\, James West Alumni Center\, 325 Westwood Plaza\, Los Angeles\, CA\, 90095\, United States
END:VEVENT
END:VCALENDAR