BEGIN:VCALENDAR
VERSION:2.0
PRODID:-//UCLA Naval Science - ECPv6.15.13//NONSGML v1.0//EN
CALSCALE:GREGORIAN
METHOD:PUBLISH
X-WR-CALNAME:UCLA Naval Science
X-ORIGINAL-URL:https://navsci.ucla.edu
X-WR-CALDESC:Events for UCLA Naval Science
REFRESH-INTERVAL;VALUE=DURATION:PT1H
X-Robots-Tag:noindex
X-PUBLISHED-TTL:PT1H
BEGIN:VTIMEZONE
TZID:America/Los_Angeles
BEGIN:DAYLIGHT
TZOFFSETFROM:-0800
TZOFFSETTO:-0700
TZNAME:PDT
DTSTART:20200308T100000
END:DAYLIGHT
BEGIN:STANDARD
TZOFFSETFROM:-0700
TZOFFSETTO:-0800
TZNAME:PST
DTSTART:20201101T090000
END:STANDARD
BEGIN:DAYLIGHT
TZOFFSETFROM:-0800
TZOFFSETTO:-0700
TZNAME:PDT
DTSTART:20210314T100000
END:DAYLIGHT
BEGIN:STANDARD
TZOFFSETFROM:-0700
TZOFFSETTO:-0800
TZNAME:PST
DTSTART:20211107T090000
END:STANDARD
BEGIN:DAYLIGHT
TZOFFSETFROM:-0800
TZOFFSETTO:-0700
TZNAME:PDT
DTSTART:20220313T100000
END:DAYLIGHT
BEGIN:STANDARD
TZOFFSETFROM:-0700
TZOFFSETTO:-0800
TZNAME:PST
DTSTART:20221106T090000
END:STANDARD
BEGIN:DAYLIGHT
TZOFFSETFROM:-0800
TZOFFSETTO:-0700
TZNAME:PDT
DTSTART:20230312T100000
END:DAYLIGHT
BEGIN:STANDARD
TZOFFSETFROM:-0700
TZOFFSETTO:-0800
TZNAME:PST
DTSTART:20231105T090000
END:STANDARD
BEGIN:DAYLIGHT
TZOFFSETFROM:-0800
TZOFFSETTO:-0700
TZNAME:PDT
DTSTART:20240310T100000
END:DAYLIGHT
BEGIN:STANDARD
TZOFFSETFROM:-0700
TZOFFSETTO:-0800
TZNAME:PST
DTSTART:20241103T090000
END:STANDARD
BEGIN:DAYLIGHT
TZOFFSETFROM:-0800
TZOFFSETTO:-0700
TZNAME:PDT
DTSTART:20250309T100000
END:DAYLIGHT
BEGIN:STANDARD
TZOFFSETFROM:-0700
TZOFFSETTO:-0800
TZNAME:PST
DTSTART:20251102T090000
END:STANDARD
BEGIN:DAYLIGHT
TZOFFSETFROM:-0800
TZOFFSETTO:-0700
TZNAME:PDT
DTSTART:20260308T100000
END:DAYLIGHT
BEGIN:STANDARD
TZOFFSETFROM:-0700
TZOFFSETTO:-0800
TZNAME:PST
DTSTART:20261101T090000
END:STANDARD
END:VTIMEZONE
BEGIN:VEVENT
DTSTART;TZID=America/Los_Angeles:20250616T100000
DTEND;TZID=America/Los_Angeles:20250616T110000
DTSTAMP:20260425T070511
CREATED:20230605T173234Z
LAST-MODIFIED:20250603T201135Z
UID:3084-1750068000-1750071600@navsci.ucla.edu
SUMMARY:Navy and Marine Corps Commissioning Ceremony
DESCRIPTION:Visitor parking is available in structures 4 and 7 for $3 per hour. RSVP is not required. \nThis is an outdoor event; please be prepared for hot or inclement weather. In accordance with UCLA Sustainability policy\, all guests are also encouraged to bring their own reusable water bottles.
URL:https://navsci.ucla.edu/event/commissioning/
LOCATION:UCLA\, Janss Terrace\, 340 Royce Drive\, Los Angeles\, CA\, 90024\, United States
END:VEVENT
BEGIN:VEVENT
DTSTART;TZID=America/Los_Angeles:20250522T110000
DTEND;TZID=America/Los_Angeles:20250522T114500
DTSTAMP:20260425T070511
CREATED:20230425T193923Z
LAST-MODIFIED:20250212T192858Z
UID:2952-1747911600-1747914300@navsci.ucla.edu
SUMMARY:UCLA Memorial Day Ceremony
DESCRIPTION:This is a free event open to the UCLA Community and the general public.  Visitor parking is available in structures 4 and 7 for $3 per hour. RSVP is not required.
URL:https://navsci.ucla.edu/event/ucla-memorial-day-ceremony-2/
LOCATION:UCLA\, Wilson Plaza
END:VEVENT
BEGIN:VEVENT
DTSTART;TZID=America/Los_Angeles:20250517T080000
DTEND;TZID=America/Los_Angeles:20250517T120000
DTSTAMP:20260425T070511
CREATED:20250428T194921Z
LAST-MODIFIED:20250428T194921Z
UID:3621-1747468800-1747483200@navsci.ucla.edu
SUMMARY:Bruin Battalion Midshipman 5K Run
DESCRIPTION:The Bruin Battalion Midshipmen will be hosting a 5K run in Santa Monica to help raise funds for future events! This event is open to the community. Registration is $25 per participant. The run will begin at 8:00 a.m. at Crescent Bay Park in Santa Monica with prizes will be awarded to the top three finishers! \nFor more information and to sign-up\, please visit https://tinyurl.com/5665hm3j/ \n  \n*This is a student-initiated/student-planned event. Questions and inquiries regarding this event may be sent to nrotc@navsci.ucla.edu and will be forwarded to the student Action Officer. 
URL:https://navsci.ucla.edu/event/5k-run/
LOCATION:Crescent Bay Park\, 2000 Ocean Ave\, Santa Monica\, CA\, 90405
END:VEVENT
BEGIN:VEVENT
DTSTART;TZID=America/Los_Angeles:20241113T180000
DTEND;TZID=America/Los_Angeles:20241113T190000
DTSTAMP:20260425T070511
CREATED:20241025T235009Z
LAST-MODIFIED:20241025T235009Z
UID:3488-1731520800-1731524400@navsci.ucla.edu
SUMMARY:A UCLA Veterans Remembrance: Conflict\, Captivity and Peace
DESCRIPTION:
URL:https://navsci.ucla.edu/event/a-ucla-veterans-remembrance-conflict-captivity-and-peace/
LOCATION:UCLA\, James West Alumni Center\, 325 Westwood Plaza\, Los Angeles\, CA\, 90095\, United States
END:VEVENT
BEGIN:VEVENT
DTSTART;TZID=America/Los_Angeles:20241104T110000
DTEND;TZID=America/Los_Angeles:20241104T130000
DTSTAMP:20260425T070511
CREATED:20221006T230411Z
LAST-MODIFIED:20241015T190632Z
UID:2852-1730718000-1730725200@navsci.ucla.edu
SUMMARY:UCLA Veterans Day Celebration
DESCRIPTION:  \nJoin fellow Bruins for an engaging Veterans Day Celebration on Monday\, November 4\, 2024. \nGet to know people in your community and make connections. Learn about the many resources available to you. Take this positive energy into the rest of your day\, knowing that your UCLA family salutes you! \nIf you are military & UCLA connected (veteran\, currently enlisted\, UCLA ROTC student\, or family member of a service member) and are interested in attending the UCLA Veterans Day Celebration\, please email eventrsvp@specialevents.ucla.edu for more information.
URL:https://navsci.ucla.edu/event/ucla-veterans-day-celebration/
LOCATION:CA
END:VEVENT
BEGIN:VEVENT
DTSTART;TZID=America/Los_Angeles:20241005T080000
DTEND;TZID=America/Los_Angeles:20241005T110000
DTSTAMP:20260425T070511
CREATED:20230605T164237Z
LAST-MODIFIED:20240823T211539Z
UID:3080-1728115200-1728126000@navsci.ucla.edu
SUMMARY:UCLA Volunteer Day
DESCRIPTION:Join the UCLA Veteran Resource Center and the UCLA Military-Connected departments to help clean Veteran headstones at the Los Angeles National Cemetery during UCLA Volunteer Day.  This event is free and open to the public.  Light refreshments and supplies will be provided. \nTo RSVP and sign the participant waiver: https://sa.ucla.edu/forms/p/VD2024 \nFor more event information\, please visit: https://veterans.ucla.edu/volunteer-day
URL:https://navsci.ucla.edu/event/volunteerday/
LOCATION:Los Angeles National Cemetery\, 950 S. Sepulveda Blvd\, Los Angeles\, CA\, 90049\, United States
END:VEVENT
BEGIN:VEVENT
DTSTART;TZID=America/Los_Angeles:20240925T100000
DTEND;TZID=America/Los_Angeles:20240925T140000
DTSTAMP:20260425T070511
CREATED:20240830T184604Z
LAST-MODIFIED:20240830T184604Z
UID:3476-1727258400-1727272800@navsci.ucla.edu
SUMMARY:Academic Open House
DESCRIPTION:  \nStop by the Student Activities Center (Room 120A) to learn about a career as an officer in the Navy or Marine Corps post-college\, scholarship opportunities\, and NROTC program requirements. \n  \nStudents who email nrotc@navsci.ucla.edu in advance to schedule an appointment with our recruiting officer will be eligible for a free gift!
URL:https://navsci.ucla.edu/event/academic-open-house/
LOCATION:Student Activities Center\, 220 Westwood Plaza\, Los Angeles\, CA\, 90095
END:VEVENT
BEGIN:VEVENT
DTSTART;VALUE=DATE:20240119
DTEND;VALUE=DATE:20240120
DTSTAMP:20260425T070512
CREATED:20231128T205921Z
LAST-MODIFIED:20240108T203404Z
UID:3137-1705622400-1705708799@navsci.ucla.edu
SUMMARY:Panda Express VIRTUAL Fundraiser
DESCRIPTION:  \nWhen: Friday\, 19 January 2024 \nWhere: Panda Express locations nationwide \nHow: Online orders only! Apply code 918653 in the Fundraiser Code box during your online checkout at www.pandaexpress.com or via App. \n  \nThe Goods: 28%of sales using fundraiser code 918653 will go towards supporting the NROTC Bruin Battalion. Thank you for your support!
URL:https://navsci.ucla.edu/event/panda-express-fundraiser/
LOCATION:CA
END:VEVENT
BEGIN:VEVENT
DTSTART;TZID=America/Los_Angeles:20231109T110000
DTEND;TZID=America/Los_Angeles:20231109T130000
DTSTAMP:20260425T070512
CREATED:20231019T214752Z
LAST-MODIFIED:20231019T214752Z
UID:3114-1699527600-1699534800@navsci.ucla.edu
SUMMARY:UCLA Veterans Day Celebration
DESCRIPTION:  \nJoin Chancellor Gene Block and fellow Bruins for an engaging Veterans Day Celebration on Thursday\, November 9\, 2023 at the James West Alumni Center’s Collins Conference Room. \nPlease register for the celebration on the event website:  uclaspecialevents.ucla.edu/VeteransDayCelebration2023 \nEnjoy a complimentary lunch buffet. Get to know people in your community and make connections. Learn about the many resources available to you. Take this positive energy into the rest of your day\, knowing that your UCLA family salutes you! \nFor inquiries\, please email rsvp@specialevents.ucla.edu.
URL:https://navsci.ucla.edu/event/ucla-veterans-day-celebration-2/
LOCATION:UCLA\, James West Alumni Center\, 325 Westwood Plaza\, Los Angeles\, CA\, 90095\, United States
END:VEVENT
BEGIN:VEVENT
DTSTART;TZID=America/Los_Angeles:20231103T170000
DTEND;TZID=America/Los_Angeles:20231103T220000
DTSTAMP:20260425T070512
CREATED:20231017T170014Z
LAST-MODIFIED:20231023T213846Z
UID:3110-1699030800-1699048800@navsci.ucla.edu
SUMMARY:Navy and Marine Corps Birthday Ball
DESCRIPTION:  \nNavy and Marine Corps Birthday Ball\, hosted by the NROTC Unit Los Angeles Consortium. This is a private event by invitation only. Email nrotc@navsci.ucla.edu for inquiries.
URL:https://navsci.ucla.edu/event/navy-and-marine-corps-birthday-ball-2/
LOCATION:CA
END:VEVENT
BEGIN:VEVENT
DTSTART;VALUE=DATE:20231030
DTEND;VALUE=DATE:20231031
DTSTAMP:20260425T070512
CREATED:20231023T220257Z
LAST-MODIFIED:20231023T220619Z
UID:3126-1698624000-1698710399@navsci.ucla.edu
SUMMARY:Panda Express Fundraiser
DESCRIPTION:Fundraiser for the UCLA Naval ROTC Bruin Battalion \n\nSave the date for Monday\, 30 October 2023\, to order out!\nOn event day\, go to www.pandaexpress.com to place your order for pickup or delivery.  This is a virtual fundraiser available at Panda Express locations nationwide.\nFor online orders: apply code 918651 in the Fundraiser Code box during your online checkout or via the App.\n\n  \n*28% of sales using our fundraiser code will be donated to the unit to support future training and morale-building events!
URL:https://navsci.ucla.edu/event/dine-in-fundraiser/
LOCATION:CA
END:VEVENT
BEGIN:VEVENT
DTSTART;TZID=America/Los_Angeles:20230530T063000
DTEND;TZID=America/Los_Angeles:20230530T090000
DTSTAMP:20260425T070512
CREATED:20230127T193024Z
LAST-MODIFIED:20230523T220422Z
UID:2881-1685428200-1685437200@navsci.ucla.edu
SUMMARY:Memorial Flag Pickup
DESCRIPTION:VOLUNTEER/COMMUNITY SERVICE OPPORTUNITY: Help us collect flags from grave sites at the L.A. National Cemetery. \n(Click to enlarge) \n  \nRSVP not required but requested to help coordinate supplies and refreshments: https://sa.ucla.edu/Forms/p/FlagPickup2023  \n*To support UCLA sustainability and zero-waste initiatives\, please bring your own reusable water bottle.
URL:https://navsci.ucla.edu/event/memorial-flag-pickup/
LOCATION:Los Angeles National Cemetery\, 950 S. Sepulveda Blvd\, Los Angeles\, CA\, 90049\, United States
END:VEVENT
BEGIN:VEVENT
DTSTART;TZID=America/Los_Angeles:20230526T120000
DTEND;TZID=America/Los_Angeles:20230526T130000
DTSTAMP:20260425T070512
CREATED:20230502T165038Z
LAST-MODIFIED:20230502T165038Z
UID:3032-1685102400-1685106000@navsci.ucla.edu
SUMMARY:Miles for Memorial Day with VRC
DESCRIPTION:  \nJoin the UCLA Veteran Resource Center as they lead us in a “1-mile” walk around campus*! \nFriday\, 26 May 2023\n12:00 p.m. – 1:00 p.m.\n*Meet at the Bruin Bear \n \n  \nThis event is free and open to registered Miles for Memorial Day participants with a signed waiver. This activity can also double count for UCLA Faculty and Staff participating in the UC Moves Challenge! To register and complete the participation waiver: https://sa.ucla.edu/Forms/p/8CRbC  \nShare your movement on social media by using #UCLAmiles4memorialday!
URL:https://navsci.ucla.edu/event/miles-for-memorial-day-vrc/
LOCATION:UCLA\, Bruin Plaza\, 308 Westwood Plaza\, Los Angeles\, CA\, 90095\, United States
END:VEVENT
BEGIN:VEVENT
DTSTART;TZID=America/Los_Angeles:20230524T120000
DTEND;TZID=America/Los_Angeles:20230524T130000
DTSTAMP:20260425T070512
CREATED:20230502T163806Z
LAST-MODIFIED:20230502T163806Z
UID:3025-1684929600-1684933200@navsci.ucla.edu
SUMMARY:Miles for Memorial Day with Naval ROTC
DESCRIPTION:Join the UCLA Naval ROTC and UCLA Recreation/FitWell in some relaxing and low-impact YOGA* exercises! \nWednesday\, 24 May 2023\n12:00 p.m. – 1:00 p.m.\nDickson Court South \n  \n*Please bring your own yoga mats. \nThis event is free and open to registered Miles for Memorial Day participants with a signed waiver. This activity can also double count for UCLA Faculty and Staff participating in the UC Moves Challenge! To register and complete the participation waiver: https://sa.ucla.edu/Forms/p/8CRbC  \nShare your movement on social media by using #UCLAmiles4memorialday!
URL:https://navsci.ucla.edu/event/miles-for-memorial-day-nrotc/
LOCATION:UCLA\, Dickson Court South\, 445 Charles E Young Dr E\, Los Angeles\, CA\, 90095\, United States
END:VEVENT
BEGIN:VEVENT
DTSTART;TZID=America/Los_Angeles:20230524T060000
DTEND;TZID=America/Los_Angeles:20230524T070000
DTSTAMP:20260425T070512
CREATED:20230425T205239Z
LAST-MODIFIED:20230426T163528Z
UID:2957-1684908000-1684911600@navsci.ucla.edu
SUMMARY:Open PT with NROTC
DESCRIPTION:  \nThis event is free and open to the public. Please arrive at least 15-minutes early to check-in. PT will begin promptly at 0600. \nRegistration for Miles for Memorial Day and participant waiver is required. To register\, please go to:  https://sa.ucla.edu/Forms/p/8CRbC. \nPay-per-space visitor parking is available in structure 7 for $3 per hour.
URL:https://navsci.ucla.edu/event/open-pt-with-nrotc/
LOCATION:UCLA\, Drake Stadium\, 340 Charles E. Young Drive North\, Los Angeles\, CA\, 90095
END:VEVENT
BEGIN:VEVENT
DTSTART;TZID=America/Los_Angeles:20230523T120000
DTEND;TZID=America/Los_Angeles:20230523T130000
DTSTAMP:20260425T070512
CREATED:20230502T165714Z
LAST-MODIFIED:20230502T165714Z
UID:3040-1684843200-1684846800@navsci.ucla.edu
SUMMARY:Miles for Memorial Day with Air Force ROTC
DESCRIPTION:Join the UCLA Air Force ROTC as they lead us in a “1-mile” walk around campus*! \nTuesday\, 23 May 2023\n12:00 p.m. – 1:00 p.m.\n*Meet at the Bruin Bear \n \n\n  \nThis event is free and open to registered Miles for Memorial Day participants with a signed waiver. This activity can also double count for UCLA Faculty and Staff participating in the UC Moves Challenge! To register and complete the participation waiver: https://sa.ucla.edu/Forms/p/8CRbC  \nShare your movement on social media by using #UCLAmiles4memorialday!
URL:https://navsci.ucla.edu/event/miles-for-memorial-day-air-force-rotc/
LOCATION:UCLA\, Bruin Plaza\, 308 Westwood Plaza\, Los Angeles\, CA\, 90095\, United States
END:VEVENT
BEGIN:VEVENT
DTSTART;TZID=America/Los_Angeles:20230522T120000
DTEND;TZID=America/Los_Angeles:20230522T130000
DTSTAMP:20260425T070512
CREATED:20230502T162603Z
LAST-MODIFIED:20230502T162603Z
UID:3018-1684756800-1684760400@navsci.ucla.edu
SUMMARY:Miles for Memorial Day with Army ROTC
DESCRIPTION:Join the UCLA Army ROTC as they lead the Army Combat Fitness Test (ACFT) Challenge! \nMonday\, 22 May 2023\n12:00 p.m. – 1:00 p.m.\nWilson Plaza \n  \nThis event is free and open to registered Miles for Memorial Day participants with a signed waiver. This activity can also double count for UCLA Faculty and Staff participating in the UC Moves Challenge! To register and complete the participation waiver: https://sa.ucla.edu/Forms/p/8CRbC  \nShare your movement on social media by using #UCLAmiles4memorialday!
URL:https://navsci.ucla.edu/event/miles-for-memorial-day-armyrotc/
LOCATION:UCLA\, Wilson Plaza
END:VEVENT
BEGIN:VEVENT
DTSTART;TZID=America/Los_Angeles:20221107T193000
DTEND;TZID=America/Los_Angeles:20221107T220000
DTSTAMP:20260425T070512
CREATED:20221024T175818Z
LAST-MODIFIED:20221024T225403Z
UID:2865-1667849400-1667858400@navsci.ucla.edu
SUMMARY:L.A. Clippers Military Heroes Night
DESCRIPTION:  \nTickets: $35 each \nPurchase tickets here: https://laclippers.spinzo.com/la-clippers-military-heroes-night–2022-11-07-ARKVB?group=ucla-naval-rotc–h3bh 
URL:https://navsci.ucla.edu/event/l-a-clippers-military-heroes-night/
LOCATION:Crypto.com Arena\, 1111 S. Figueroa Street\, Los Angeles\, CA\, 90015\, United States
END:VEVENT
BEGIN:VEVENT
DTSTART;TZID=America/Los_Angeles:20220921T100000
DTEND;TZID=America/Los_Angeles:20220921T140000
DTSTAMP:20260425T070512
CREATED:20220808T184348Z
LAST-MODIFIED:20220808T184348Z
UID:2708-1663754400-1663768800@navsci.ucla.edu
SUMMARY:True Bruin Welcome: Naval Science Open House
DESCRIPTION:Welcome to the Naval Science Department\, home to the Naval ROTC Bruin Battalion! Stop by the Student Activities Center\, Room 120A to meet our active duty officer instructors and midshipmen (current students) to learn about a career in the Navy or Marine Corps as a junior officer\, as well as generous scholarship opportunities. \nThis event is geared toward UCLA undergraduate students.
URL:https://navsci.ucla.edu/event/true-bruin-welcome-naval-science-open-house/
LOCATION:Student Activities Center\, 220 Westwood Plaza\, Los Angeles\, CA\, 90095
END:VEVENT
BEGIN:VEVENT
DTSTART;TZID=America/Los_Angeles:20220907T090000
DTEND;TZID=America/Los_Angeles:20220907T130000
DTSTAMP:20260425T070512
CREATED:20220728T220329Z
LAST-MODIFIED:20220728T220806Z
UID:2698-1662541200-1662555600@navsci.ucla.edu
SUMMARY:Military-Connected High School to College
DESCRIPTION:Join us for an informative day to learn about the ROTC programs\, scholarships\, and resources available for military-connected students at UCLA. \n  \nRepresentatives and presentations to include:\n\nEarly Academic Out Reach Program (EAOP)\nCampus Tours\nAir Force ROTC\nArmy ROTC\nNaval ROTC\nVeteran Services\n\n  \nLunch will be provided. Kindly RSVP to Vicki Sanelli at vksanelli@milsci.ucla.edu by Monday\, August 22\, 2022.  \nParking is available in Structures 4 and 7.  Rates range from $1 for 20-minutes to $14 all day. \nCampus parking map can be viewed at: https://ucla.app.box.com/s/n49sussjcbo6e9s1ljs9j9icc053mqaq
URL:https://navsci.ucla.edu/event/military-connected-high-school-to-college/
LOCATION:Student Activities Center\, 220 Westwood Plaza\, Los Angeles\, CA\, 90095
END:VEVENT
BEGIN:VEVENT
DTSTART;TZID=America/Los_Angeles:20220526T100000
DTEND;TZID=America/Los_Angeles:20220526T110000
DTSTAMP:20260425T070512
CREATED:20220324T002924Z
LAST-MODIFIED:20220524T170017Z
UID:2651-1653559200-1653562800@navsci.ucla.edu
SUMMARY:UCLA Memorial Day Ceremony
DESCRIPTION:Event website: https://uclaspecialevents.ucla.edu/uclamemorialdayceremony2022 \nEvent is free; however\, RSVP is requested by Monday\, May 23\, 2022. \n  \nLivestream on YouTube: https://youtu.be/XJEQswbSelc
URL:https://navsci.ucla.edu/event/ucla-memorial-day-ceremony/
LOCATION:UCLA\, Wilson Plaza
END:VEVENT
BEGIN:VEVENT
DTSTART;TZID=America/Los_Angeles:20220514T090000
DTEND;TZID=America/Los_Angeles:20220514T120000
DTSTAMP:20260425T070512
CREATED:20220324T012225Z
LAST-MODIFIED:20220324T012225Z
UID:2669-1652518800-1652529600@navsci.ucla.edu
SUMMARY:Campus Life Fair for Admitted Transfers
DESCRIPTION:Virtual campus life fair for all transfer admits. \nStaff will be available to help answer any questions you have regarding the NROTC Bruin Battalion and scholarship opportunities. \n  \nZoom link: https://ucla.zoom.us/j/91051735939
URL:https://navsci.ucla.edu/event/campus-life-fair-for-admitted-transfers/
LOCATION:Zoom meeting
ORGANIZER;CN="Bruin Day Co-Chairs":MAILTO:uclabruinday@specialevents.ucla.edu
END:VEVENT
BEGIN:VEVENT
DTSTART;TZID=America/Los_Angeles:20220409T090000
DTEND;TZID=America/Los_Angeles:20220409T120000
DTSTAMP:20260425T070512
CREATED:20220324T011432Z
LAST-MODIFIED:20220324T012607Z
UID:2663-1649494800-1649505600@navsci.ucla.edu
SUMMARY:Campus Life Fair for Admitted Freshmen
DESCRIPTION:Virtual campus life fair for all freshmen admits. \nStaff will be available to help answer any questions you have regarding the NROTC Bruin Battalion and scholarship opportunities. \n  \nZoom link: https://ucla.zoom.us/j/91051735939
URL:https://navsci.ucla.edu/event/campus-life-fair-for-admitted-freshmen/
LOCATION:Zoom meeting
ORGANIZER;CN="Bruin Day Co-Chairs":MAILTO:uclabruinday@specialevents.ucla.edu
END:VEVENT
BEGIN:VEVENT
DTSTART;TZID=America/Los_Angeles:20211020T110000
DTEND;TZID=America/Los_Angeles:20211020T140000
DTSTAMP:20260425T070512
CREATED:20211013T202237Z
LAST-MODIFIED:20211013T202237Z
UID:2482-1634727600-1634738400@navsci.ucla.edu
SUMMARY:Student Activity Center Open House
DESCRIPTION:Come see what Navy ROTC is all about. Enjoy a tour of the Student Activity Center and become familiar with all of our program and benefits. Free lunch and SWAG all event long!!
URL:https://navsci.ucla.edu/event/student-activity-center-open-house/
LOCATION:Student Activities Center\, 220 Westwood Plaza\, Los Angeles\, CA\, 90095
END:VEVENT
BEGIN:VEVENT
DTSTART;TZID=America/Los_Angeles:20211001T113000
DTEND;TZID=America/Los_Angeles:20211001T133000
DTSTAMP:20260425T070512
CREATED:20210923T220046Z
LAST-MODIFIED:20210923T220046Z
UID:2465-1633087800-1633095000@navsci.ucla.edu
SUMMARY:Military-Connected Open House & Resource Fair
DESCRIPTION:  \nOpen to all UCLA Students to learn more about the four military-connected departments at UCLA and resources we have available. Stop by for some food\, drinks\, and free swag!
URL:https://navsci.ucla.edu/event/military-connected-open-house/
LOCATION:Student Activities Center\, 220 Westwood Plaza\, Los Angeles\, CA\, 90095
END:VEVENT
BEGIN:VEVENT
DTSTART;TZID=America/Los_Angeles:20210925T090000
DTEND;TZID=America/Los_Angeles:20210925T154000
DTSTAMP:20260425T070512
CREATED:20210923T215450Z
LAST-MODIFIED:20210923T215450Z
UID:2455-1632560400-1632584400@navsci.ucla.edu
SUMMARY:Military Connected Blood Drive Kick-Off
DESCRIPTION:  \nAppointments are highly encouraged and can be made at https://www.ucedonor.com/index.cfm?group=op&expand=11480&zc=90095 or by calling (310) 825-0888\, option 2. \n  \nIf no appointments are available\, you are welcome to join our  Donor Standby list. We will have staff onsite at Ackerman and will be contacting those on the standby list as donor beds become available. \n  \nAfter your donation:  \nMake sure you sign-in to the Lifesaver Club to support the Naval ROTC!
URL:https://navsci.ucla.edu/event/blooddrive-kickoff/
LOCATION:Ackerman Union\, 308 Westwood Plaza\, Los Angeles\, CA\, 90095
END:VEVENT
BEGIN:VEVENT
DTSTART;VALUE=DATE:20210501
DTEND;VALUE=DATE:20210531
DTSTAMP:20260425T070512
CREATED:20210407T180959Z
LAST-MODIFIED:20210407T180959Z
UID:2284-1619827200-1622419199@navsci.ucla.edu
SUMMARY:Miles for Memorial Day Challenge
DESCRIPTION:Register by May 7 to join the first ever Miles for Memorial Day Challenge and receive your FREE Miles for Memorial Day t-shirt! \nPlan to walk\, run\, swim\, roll\, bike… at least ONE MILE every day for 30-days. No app or smartphone required. You can calculate your steps using this activity converter. \n  \nHow to participate: \n\nRegister for the Miles for Memorial Day Challenge*\nOnce the challenge begins\, you will receive weekly email reminders asking you to submit your tracked minutes each day. All activities count! Use the activity converter if needed to calculate your “steps.”\nSubmit your steps each week for an entry toward some great grand prizes!\nShare your Miles for Memorial Day journey on social media – tag @uclarec and @ucla_nrotc on Instagram for a chance to be featured!\n\n* UCLA logon ID required. Create one here to get registered.  \n  \nParticipate for a chance to win one of the following prizes: \n\nPrize basket offered by the UCLA Military-Connected departments (Aerospace Studies\, Military Science\, Naval Science and Veteran Resource Center)\n$50 Amazon Gift Card\n$50 Sweetfin Poke Gift Card\nAirpods\nJBL Portable Bluetooth Speaker\n\n  \nREGISTRATION CLOSES 5/7/21!
URL:https://navsci.ucla.edu/event/miles-for-memorial-day-challenge/
LOCATION:CA
END:VEVENT
BEGIN:VEVENT
DTSTART;TZID=America/Los_Angeles:20210430T163000
DTEND;TZID=America/Los_Angeles:20210430T173000
DTSTAMP:20260425T070512
CREATED:20210324T213548Z
LAST-MODIFIED:20210324T213548Z
UID:2269-1619800200-1619803800@navsci.ucla.edu
SUMMARY:Virtual Meet and Greet
DESCRIPTION:Exclusive virtual meet-and-greet event for admitted Freshmen. This is your final chance to meet the UCLA NROTC Staff and student leaders for the Bruin Battalion before the Freshmen SIR deadline. \nFor Zoom meeting details\, check the calendar in your UCLA NROTC Bruin Bound experience on Canvas Free for Teachers.  Email nrotc@navsci.ucla.edu if you need assistance accessing this portal.
URL:https://navsci.ucla.edu/event/virtual-meet-and-greet-2/
LOCATION:Zoom meeting
END:VEVENT
BEGIN:VEVENT
DTSTART;TZID=America/Los_Angeles:20210417T130000
DTEND;TZID=America/Los_Angeles:20210417T140000
DTSTAMP:20260425T070512
CREATED:20210324T213256Z
LAST-MODIFIED:20210324T213256Z
UID:2266-1618664400-1618668000@navsci.ucla.edu
SUMMARY:Virtual Meet and Greet
DESCRIPTION:Exclusive virtual meet-and-greet event for admitted Freshmen. Meet the UCLA NROTC Staff and student leaders for the Bruin Battalion. \nFor Zoom meeting details\, check the calendar in your UCLA NROTC Bruin Bound experience on Canvas Free for Teachers.  Email nrotc@navsci.ucla.edu if you need assistance accessing this portal.
URL:https://navsci.ucla.edu/event/virtual-meet-and-greet/
LOCATION:Zoom meeting
END:VEVENT
BEGIN:VEVENT
DTSTART;TZID=America/Los_Angeles:20210407T180000
DTEND;TZID=America/Los_Angeles:20210407T190000
DTSTAMP:20260425T070512
CREATED:20210324T210632Z
LAST-MODIFIED:20210324T213033Z
UID:2226-1617818400-1617822000@navsci.ucla.edu
SUMMARY:Virtual Meet-and-Greet
DESCRIPTION:Exclusive virtual meet-and-greet event for admitted Freshmen. Meet the UCLA NROTC Staff and student leaders for the Bruin Battalion. \nFor Zoom meeting details\, check the calendar in your UCLA NROTC Bruin Bound experience on Canvas Free for Teachers.  Email nrotc@navsci.ucla.edu if you need assistance accessing this portal.
URL:https://navsci.ucla.edu/event/meet-and-greet/
LOCATION:Zoom meeting
END:VEVENT
END:VCALENDAR