BEGIN:VCALENDAR
VERSION:2.0
PRODID:-//UCLA Naval Science - ECPv6.15.13//NONSGML v1.0//EN
CALSCALE:GREGORIAN
METHOD:PUBLISH
X-WR-CALNAME:UCLA Naval Science
X-ORIGINAL-URL:https://navsci.ucla.edu
X-WR-CALDESC:Events for UCLA Naval Science
REFRESH-INTERVAL;VALUE=DURATION:PT1H
X-Robots-Tag:noindex
X-PUBLISHED-TTL:PT1H
BEGIN:VTIMEZONE
TZID:America/Los_Angeles
BEGIN:DAYLIGHT
TZOFFSETFROM:-0800
TZOFFSETTO:-0700
TZNAME:PDT
DTSTART:20130310T100000
END:DAYLIGHT
BEGIN:STANDARD
TZOFFSETFROM:-0700
TZOFFSETTO:-0800
TZNAME:PST
DTSTART:20131103T090000
END:STANDARD
BEGIN:DAYLIGHT
TZOFFSETFROM:-0800
TZOFFSETTO:-0700
TZNAME:PDT
DTSTART:20140309T100000
END:DAYLIGHT
BEGIN:STANDARD
TZOFFSETFROM:-0700
TZOFFSETTO:-0800
TZNAME:PST
DTSTART:20141102T090000
END:STANDARD
BEGIN:DAYLIGHT
TZOFFSETFROM:-0800
TZOFFSETTO:-0700
TZNAME:PDT
DTSTART:20150308T100000
END:DAYLIGHT
BEGIN:STANDARD
TZOFFSETFROM:-0700
TZOFFSETTO:-0800
TZNAME:PST
DTSTART:20151101T090000
END:STANDARD
END:VTIMEZONE
BEGIN:VEVENT
DTSTART;TZID=America/Los_Angeles:20140619T100000
DTEND;TZID=America/Los_Angeles:20140619T120000
DTSTAMP:20260425T040720
CREATED:20210107T185135Z
LAST-MODIFIED:20210107T185135Z
UID:615-1403172000-1403179200@navsci.ucla.edu
SUMMARY:Commissioning (UCLA)
DESCRIPTION:
URL:https://navsci.ucla.edu/event/commissioning-ucla/
LOCATION:CA
END:VEVENT
BEGIN:VEVENT
DTSTART;TZID=America/Los_Angeles:20140502T180000
DTEND;TZID=America/Los_Angeles:20140502T230000
DTSTAMP:20260425T040720
CREATED:20210107T185135Z
LAST-MODIFIED:20210107T185135Z
UID:614-1399053600-1399071600@navsci.ucla.edu
SUMMARY:Stripe & Star Ball (UCLA Ackerman Ball Room)
DESCRIPTION:The Stripe and Star Ball is the Bruin Battalion’s annual event to commemorate another succesful year.
URL:https://navsci.ucla.edu/event/stripe-star-ball-ucla-ackerman-ball-room/
LOCATION:CA
END:VEVENT
BEGIN:VEVENT
DTSTART;TZID=America/Los_Angeles:20140412T104500
DTEND;TZID=America/Los_Angeles:20140413T114500
DTSTAMP:20260425T040720
CREATED:20210107T185132Z
LAST-MODIFIED:20210107T185132Z
UID:611-1397299500-1397389500@navsci.ucla.edu
SUMMARY:USMC Field Training Exercise #2 (Camp Pendleton)
DESCRIPTION:The training will be at Camp Pendleton.
URL:https://navsci.ucla.edu/event/usmc-field-training-exercise-2-camp-pendleton/
LOCATION:CA
END:VEVENT
BEGIN:VEVENT
DTSTART;TZID=America/Los_Angeles:20140405T100000
DTEND;TZID=America/Los_Angeles:20140405T114500
DTSTAMP:20260425T040720
CREATED:20210107T185133Z
LAST-MODIFIED:20210107T185133Z
UID:612-1396692000-1396698300@navsci.ucla.edu
SUMMARY:Community Awards Ceremony (USC)
DESCRIPTION:
URL:https://navsci.ucla.edu/event/community-awards-ceremony-usc/
LOCATION:CA
END:VEVENT
BEGIN:VEVENT
DTSTART;TZID=America/Los_Angeles:20140404T180000
DTEND;TZID=America/Los_Angeles:20140404T230000
DTSTAMP:20260425T040720
CREATED:20210107T185133Z
LAST-MODIFIED:20210107T185133Z
UID:613-1396634400-1396652400@navsci.ucla.edu
SUMMARY:"Mess Night"
DESCRIPTION:The upperclassman enjoy an evening with the staff at The Ronald Reagan Library.
URL:https://navsci.ucla.edu/event/mess-night/
LOCATION:CA
END:VEVENT
BEGIN:VEVENT
DTSTART;TZID=America/Los_Angeles:20140308T103000
DTEND;TZID=America/Los_Angeles:20140309T113000
DTSTAMP:20260425T040720
CREATED:20210107T185132Z
LAST-MODIFIED:20210107T185132Z
UID:610-1394274600-1394364600@navsci.ucla.edu
SUMMARY:Colorado Drill meet
DESCRIPTION:The Drill Team travels to Boulder Colorado for the Drill meet on 8-9MAR2014.
URL:https://navsci.ucla.edu/event/colorado-drill-meet/
LOCATION:CA
END:VEVENT
BEGIN:VEVENT
DTSTART;TZID=America/Los_Angeles:20140208T080000
DTEND;TZID=America/Los_Angeles:20140208T170000
DTSTAMP:20260425T040720
CREATED:20210107T185132Z
LAST-MODIFIED:20210107T185132Z
UID:609-1391846400-1391878800@navsci.ucla.edu
SUMMARY:USMC Field Training Exercise #1 (Camp Pendleton)
DESCRIPTION:The training will be at Camp Pendleton.
URL:https://navsci.ucla.edu/event/usmc-field-training-exercise-1-camp-pendleton/
LOCATION:CA
END:VEVENT
END:VCALENDAR