BEGIN:VCALENDAR
VERSION:2.0
PRODID:-//UCLA Naval Science - ECPv6.15.13//NONSGML v1.0//EN
CALSCALE:GREGORIAN
METHOD:PUBLISH
X-ORIGINAL-URL:https://navsci.ucla.edu
X-WR-CALDESC:Events for UCLA Naval Science
REFRESH-INTERVAL;VALUE=DURATION:PT1H
X-Robots-Tag:noindex
X-PUBLISHED-TTL:PT1H
BEGIN:VTIMEZONE
TZID:America/Los_Angeles
BEGIN:DAYLIGHT
TZOFFSETFROM:-0800
TZOFFSETTO:-0700
TZNAME:PDT
DTSTART:20220313T100000
END:DAYLIGHT
BEGIN:STANDARD
TZOFFSETFROM:-0700
TZOFFSETTO:-0800
TZNAME:PST
DTSTART:20221106T090000
END:STANDARD
BEGIN:DAYLIGHT
TZOFFSETFROM:-0800
TZOFFSETTO:-0700
TZNAME:PDT
DTSTART:20230312T100000
END:DAYLIGHT
BEGIN:STANDARD
TZOFFSETFROM:-0700
TZOFFSETTO:-0800
TZNAME:PST
DTSTART:20231105T090000
END:STANDARD
BEGIN:DAYLIGHT
TZOFFSETFROM:-0800
TZOFFSETTO:-0700
TZNAME:PDT
DTSTART:20240310T100000
END:DAYLIGHT
BEGIN:STANDARD
TZOFFSETFROM:-0700
TZOFFSETTO:-0800
TZNAME:PST
DTSTART:20241103T090000
END:STANDARD
BEGIN:DAYLIGHT
TZOFFSETFROM:-0800
TZOFFSETTO:-0700
TZNAME:PDT
DTSTART:20250309T100000
END:DAYLIGHT
BEGIN:STANDARD
TZOFFSETFROM:-0700
TZOFFSETTO:-0800
TZNAME:PST
DTSTART:20251102T090000
END:STANDARD
BEGIN:DAYLIGHT
TZOFFSETFROM:-0800
TZOFFSETTO:-0700
TZNAME:PDT
DTSTART:20260308T100000
END:DAYLIGHT
BEGIN:STANDARD
TZOFFSETFROM:-0700
TZOFFSETTO:-0800
TZNAME:PST
DTSTART:20261101T090000
END:STANDARD
BEGIN:DAYLIGHT
TZOFFSETFROM:-0800
TZOFFSETTO:-0700
TZNAME:PDT
DTSTART:20270314T100000
END:DAYLIGHT
BEGIN:STANDARD
TZOFFSETFROM:-0700
TZOFFSETTO:-0800
TZNAME:PST
DTSTART:20271107T090000
END:STANDARD
END:VTIMEZONE
BEGIN:VEVENT
DTSTART;VALUE=DATE:20231030
DTEND;VALUE=DATE:20231031
DTSTAMP:20260425T060006
CREATED:20231023T220257Z
LAST-MODIFIED:20231023T220619Z
UID:3126-1698624000-1698710399@navsci.ucla.edu
SUMMARY:Panda Express Fundraiser
DESCRIPTION:Fundraiser for the UCLA Naval ROTC Bruin Battalion \n\nSave the date for Monday\, 30 October 2023\, to order out!\nOn event day\, go to www.pandaexpress.com to place your order for pickup or delivery.  This is a virtual fundraiser available at Panda Express locations nationwide.\nFor online orders: apply code 918651 in the Fundraiser Code box during your online checkout or via the App.\n\n  \n*28% of sales using our fundraiser code will be donated to the unit to support future training and morale-building events!
URL:https://navsci.ucla.edu/event/dine-in-fundraiser/
LOCATION:CA
END:VEVENT
BEGIN:VEVENT
DTSTART;TZID=America/Los_Angeles:20231103T170000
DTEND;TZID=America/Los_Angeles:20231103T220000
DTSTAMP:20260425T060006
CREATED:20231017T170014Z
LAST-MODIFIED:20231023T213846Z
UID:3110-1699030800-1699048800@navsci.ucla.edu
SUMMARY:Navy and Marine Corps Birthday Ball
DESCRIPTION:  \nNavy and Marine Corps Birthday Ball\, hosted by the NROTC Unit Los Angeles Consortium. This is a private event by invitation only. Email nrotc@navsci.ucla.edu for inquiries.
URL:https://navsci.ucla.edu/event/navy-and-marine-corps-birthday-ball-2/
LOCATION:CA
END:VEVENT
BEGIN:VEVENT
DTSTART;TZID=America/Los_Angeles:20231109T110000
DTEND;TZID=America/Los_Angeles:20231109T130000
DTSTAMP:20260425T060006
CREATED:20231019T214752Z
LAST-MODIFIED:20231019T214752Z
UID:3114-1699527600-1699534800@navsci.ucla.edu
SUMMARY:UCLA Veterans Day Celebration
DESCRIPTION:  \nJoin Chancellor Gene Block and fellow Bruins for an engaging Veterans Day Celebration on Thursday\, November 9\, 2023 at the James West Alumni Center’s Collins Conference Room. \nPlease register for the celebration on the event website:  uclaspecialevents.ucla.edu/VeteransDayCelebration2023 \nEnjoy a complimentary lunch buffet. Get to know people in your community and make connections. Learn about the many resources available to you. Take this positive energy into the rest of your day\, knowing that your UCLA family salutes you! \nFor inquiries\, please email rsvp@specialevents.ucla.edu.
URL:https://navsci.ucla.edu/event/ucla-veterans-day-celebration-2/
LOCATION:UCLA\, James West Alumni Center\, 325 Westwood Plaza\, Los Angeles\, CA\, 90095\, United States
END:VEVENT
BEGIN:VEVENT
DTSTART;VALUE=DATE:20240119
DTEND;VALUE=DATE:20240120
DTSTAMP:20260425T060006
CREATED:20231128T205921Z
LAST-MODIFIED:20240108T203404Z
UID:3137-1705622400-1705708799@navsci.ucla.edu
SUMMARY:Panda Express VIRTUAL Fundraiser
DESCRIPTION:  \nWhen: Friday\, 19 January 2024 \nWhere: Panda Express locations nationwide \nHow: Online orders only! Apply code 918653 in the Fundraiser Code box during your online checkout at www.pandaexpress.com or via App. \n  \nThe Goods: 28%of sales using fundraiser code 918653 will go towards supporting the NROTC Bruin Battalion. Thank you for your support!
URL:https://navsci.ucla.edu/event/panda-express-fundraiser/
LOCATION:CA
END:VEVENT
BEGIN:VEVENT
DTSTART;TZID=America/Los_Angeles:20240925T100000
DTEND;TZID=America/Los_Angeles:20240925T140000
DTSTAMP:20260425T060006
CREATED:20240830T184604Z
LAST-MODIFIED:20240830T184604Z
UID:3476-1727258400-1727272800@navsci.ucla.edu
SUMMARY:Academic Open House
DESCRIPTION:  \nStop by the Student Activities Center (Room 120A) to learn about a career as an officer in the Navy or Marine Corps post-college\, scholarship opportunities\, and NROTC program requirements. \n  \nStudents who email nrotc@navsci.ucla.edu in advance to schedule an appointment with our recruiting officer will be eligible for a free gift!
URL:https://navsci.ucla.edu/event/academic-open-house/
LOCATION:Student Activities Center\, 220 Westwood Plaza\, Los Angeles\, CA\, 90095
END:VEVENT
BEGIN:VEVENT
DTSTART;TZID=America/Los_Angeles:20241005T080000
DTEND;TZID=America/Los_Angeles:20241005T110000
DTSTAMP:20260425T060006
CREATED:20230605T164237Z
LAST-MODIFIED:20240823T211539Z
UID:3080-1728115200-1728126000@navsci.ucla.edu
SUMMARY:UCLA Volunteer Day
DESCRIPTION:Join the UCLA Veteran Resource Center and the UCLA Military-Connected departments to help clean Veteran headstones at the Los Angeles National Cemetery during UCLA Volunteer Day.  This event is free and open to the public.  Light refreshments and supplies will be provided. \nTo RSVP and sign the participant waiver: https://sa.ucla.edu/forms/p/VD2024 \nFor more event information\, please visit: https://veterans.ucla.edu/volunteer-day
URL:https://navsci.ucla.edu/event/volunteerday/
LOCATION:Los Angeles National Cemetery\, 950 S. Sepulveda Blvd\, Los Angeles\, CA\, 90049\, United States
END:VEVENT
BEGIN:VEVENT
DTSTART;TZID=America/Los_Angeles:20241104T110000
DTEND;TZID=America/Los_Angeles:20241104T130000
DTSTAMP:20260425T060006
CREATED:20221006T230411Z
LAST-MODIFIED:20241015T190632Z
UID:2852-1730718000-1730725200@navsci.ucla.edu
SUMMARY:UCLA Veterans Day Celebration
DESCRIPTION:  \nJoin fellow Bruins for an engaging Veterans Day Celebration on Monday\, November 4\, 2024. \nGet to know people in your community and make connections. Learn about the many resources available to you. Take this positive energy into the rest of your day\, knowing that your UCLA family salutes you! \nIf you are military & UCLA connected (veteran\, currently enlisted\, UCLA ROTC student\, or family member of a service member) and are interested in attending the UCLA Veterans Day Celebration\, please email eventrsvp@specialevents.ucla.edu for more information.
URL:https://navsci.ucla.edu/event/ucla-veterans-day-celebration/
LOCATION:CA
END:VEVENT
BEGIN:VEVENT
DTSTART;TZID=America/Los_Angeles:20241113T180000
DTEND;TZID=America/Los_Angeles:20241113T190000
DTSTAMP:20260425T060006
CREATED:20241025T235009Z
LAST-MODIFIED:20241025T235009Z
UID:3488-1731520800-1731524400@navsci.ucla.edu
SUMMARY:A UCLA Veterans Remembrance: Conflict\, Captivity and Peace
DESCRIPTION:
URL:https://navsci.ucla.edu/event/a-ucla-veterans-remembrance-conflict-captivity-and-peace/
LOCATION:UCLA\, James West Alumni Center\, 325 Westwood Plaza\, Los Angeles\, CA\, 90095\, United States
END:VEVENT
BEGIN:VEVENT
DTSTART;TZID=America/Los_Angeles:20250517T080000
DTEND;TZID=America/Los_Angeles:20250517T120000
DTSTAMP:20260425T060006
CREATED:20250428T194921Z
LAST-MODIFIED:20250428T194921Z
UID:3621-1747468800-1747483200@navsci.ucla.edu
SUMMARY:Bruin Battalion Midshipman 5K Run
DESCRIPTION:The Bruin Battalion Midshipmen will be hosting a 5K run in Santa Monica to help raise funds for future events! This event is open to the community. Registration is $25 per participant. The run will begin at 8:00 a.m. at Crescent Bay Park in Santa Monica with prizes will be awarded to the top three finishers! \nFor more information and to sign-up\, please visit https://tinyurl.com/5665hm3j/ \n  \n*This is a student-initiated/student-planned event. Questions and inquiries regarding this event may be sent to nrotc@navsci.ucla.edu and will be forwarded to the student Action Officer. 
URL:https://navsci.ucla.edu/event/5k-run/
LOCATION:Crescent Bay Park\, 2000 Ocean Ave\, Santa Monica\, CA\, 90405
END:VEVENT
BEGIN:VEVENT
DTSTART;TZID=America/Los_Angeles:20250522T110000
DTEND;TZID=America/Los_Angeles:20250522T114500
DTSTAMP:20260425T060006
CREATED:20230425T193923Z
LAST-MODIFIED:20250212T192858Z
UID:2952-1747911600-1747914300@navsci.ucla.edu
SUMMARY:UCLA Memorial Day Ceremony
DESCRIPTION:This is a free event open to the UCLA Community and the general public.  Visitor parking is available in structures 4 and 7 for $3 per hour. RSVP is not required.
URL:https://navsci.ucla.edu/event/ucla-memorial-day-ceremony-2/
LOCATION:UCLA\, Wilson Plaza
END:VEVENT
BEGIN:VEVENT
DTSTART;TZID=America/Los_Angeles:20250616T100000
DTEND;TZID=America/Los_Angeles:20250616T110000
DTSTAMP:20260425T060006
CREATED:20230605T173234Z
LAST-MODIFIED:20250603T201135Z
UID:3084-1750068000-1750071600@navsci.ucla.edu
SUMMARY:Navy and Marine Corps Commissioning Ceremony
DESCRIPTION:Visitor parking is available in structures 4 and 7 for $3 per hour. RSVP is not required. \nThis is an outdoor event; please be prepared for hot or inclement weather. In accordance with UCLA Sustainability policy\, all guests are also encouraged to bring their own reusable water bottles.
URL:https://navsci.ucla.edu/event/commissioning/
LOCATION:UCLA\, Janss Terrace\, 340 Royce Drive\, Los Angeles\, CA\, 90024\, United States
END:VEVENT
BEGIN:VEVENT
DTSTART;TZID=America/Los_Angeles:20260411T093000
DTEND;TZID=America/Los_Angeles:20260411T150000
DTSTAMP:20260425T060006
CREATED:20240315T193316Z
LAST-MODIFIED:20260325T180523Z
UID:3163-1775899800-1775919600@navsci.ucla.edu
SUMMARY:NROTC Welcome Lunch
DESCRIPTION:Exclusive welcome event for NROTC Scholarship Freshmen\, MECEP\, and STA-21 admits and their families\n*This event is by invitation only. Invites will be mailed following the release of UCLA Admission decisions. RSVP is required. Please scroll down for additional UCLA Bruin Day events that are open to all freshmen admits and their families.  \n  \nSchedule of events:  \n1145-1200: Check-in\n1200-1230: Lunch\n1230-1300: Welcome presentation\, introductions\, Q&A\n1300-1330: NROTC Tour and SIR desk (if you are ready to say YES! to UCLA) \nRSVP link: https://sa.ucla.edu/forms/p/NROTC2026 \nRSVP deadline: 11:59 p.m. Pacific Time\, Wednesday\, 1 APR 2026\n*Please contact nrotc@navsci.ucla.edu if you need to change your RSVP once submitted. \nGuest parking is available in structures 2\, 4\, 7 or 8. Parking may be purchased in advance via the Bruin e-Permit portal\, or may be purchased upon arrival. Please note that purchasing a permit in advance does not guarantee parking availability in that respective structure. \nTo support the university’s Zero Waste and sustainability initiatives\, please bring a refillable water bottle to Bruin Day. Water bottle refill stations will be available throughout campus.\n \n  \nOther UCLA Bruin Day events you may be interested in (these are open to the public):\nLearn about academic programs\, financial aid\, residence halls and more. Take student-guided tours\, speak with faculty and academic advisors and connect with current and future Bruins. \n  \n\nReserve Officer Training Corps (ROTC) Open House\n9:30 a.m. – 3:00 p.m.\nStudent Activities Center\, 120 Hallway \nInformation Fair\n9:30 a.m. – 3:00 p.m.\nDickson Plaza \nMilitary-Connected Student Education Benefits\nAckerman Union\, Room 2408 \nPresentation times:\n11:00 a.m. – 11:30 a.m.\n1:00 p.m. – 1:30 p.m.\n3:00 p.m. – 3:30 p.m. \n\n  \nExperience life on campus at UCLA\nYour Future Is Bruin \nVisit https://bruinday.ucla.edu to learn more.
URL:https://navsci.ucla.edu/event/nrotc-welcome-lunch/
LOCATION:CA
ORGANIZER;CN="UCLA Naval Science":MAILTO:nrotc@navsci.ucla.edu
END:VEVENT
BEGIN:VEVENT
DTSTART;TZID=America/Los_Angeles:20260526T063000
DTEND;TZID=America/Los_Angeles:20260526T063000
DTSTAMP:20260425T060006
CREATED:20231204T193155Z
LAST-MODIFIED:20251209T204946Z
UID:3142-1779777000-1779777000@navsci.ucla.edu
SUMMARY:Memorial Day Flag-Pickup
DESCRIPTION:Join the UCLA Veteran Resource Center and UCLA ROTC units as we support the Los Angeles National Cemetery in picking up the 90\,000+ flags that mark the grave site of our nations service members.  This event is free and open to the public. \n  \nFor more information and to RSVP: https://veterans.ucla.edu/memorial-flag-pick \n*RSVP requested but not required (will help coordinate supplies and refreshments). \n  \nLos Angeles National Cemetery\n950 S. Sepulveda Blvd.\nLos Angeles\, CA 90049
URL:https://navsci.ucla.edu/event/memorial-day-flag-pickup/
LOCATION:Los Angeles National Cemetery\, 950 S. Sepulveda Blvd\, Los Angeles\, CA\, 90049\, United States
END:VEVENT
END:VCALENDAR