BEGIN:VCALENDAR
VERSION:2.0
PRODID:-//UCLA Naval Science - ECPv6.15.13//NONSGML v1.0//EN
CALSCALE:GREGORIAN
METHOD:PUBLISH
X-WR-CALNAME:UCLA Naval Science
X-ORIGINAL-URL:https://navsci.ucla.edu
X-WR-CALDESC:Events for UCLA Naval Science
REFRESH-INTERVAL;VALUE=DURATION:PT1H
X-Robots-Tag:noindex
X-PUBLISHED-TTL:PT1H
BEGIN:VTIMEZONE
TZID:America/Los_Angeles
BEGIN:DAYLIGHT
TZOFFSETFROM:-0800
TZOFFSETTO:-0700
TZNAME:PDT
DTSTART:20190310T100000
END:DAYLIGHT
BEGIN:STANDARD
TZOFFSETFROM:-0700
TZOFFSETTO:-0800
TZNAME:PST
DTSTART:20191103T090000
END:STANDARD
BEGIN:DAYLIGHT
TZOFFSETFROM:-0800
TZOFFSETTO:-0700
TZNAME:PDT
DTSTART:20200308T100000
END:DAYLIGHT
BEGIN:STANDARD
TZOFFSETFROM:-0700
TZOFFSETTO:-0800
TZNAME:PST
DTSTART:20201101T090000
END:STANDARD
BEGIN:DAYLIGHT
TZOFFSETFROM:-0800
TZOFFSETTO:-0700
TZNAME:PDT
DTSTART:20210314T100000
END:DAYLIGHT
BEGIN:STANDARD
TZOFFSETFROM:-0700
TZOFFSETTO:-0800
TZNAME:PST
DTSTART:20211107T090000
END:STANDARD
BEGIN:DAYLIGHT
TZOFFSETFROM:-0800
TZOFFSETTO:-0700
TZNAME:PDT
DTSTART:20220313T100000
END:DAYLIGHT
BEGIN:STANDARD
TZOFFSETFROM:-0700
TZOFFSETTO:-0800
TZNAME:PST
DTSTART:20221106T090000
END:STANDARD
END:VTIMEZONE
BEGIN:VEVENT
DTSTART;TZID=America/Los_Angeles:20200801T090000
DTEND;TZID=America/Los_Angeles:20210531T170000
DTSTAMP:20260424T070057
CREATED:20210107T185220Z
LAST-MODIFIED:20210324T214849Z
UID:627-1596272400-1622480400@navsci.ucla.edu
SUMMARY:Battle of the Branches Blood Drive
DESCRIPTION:  \nBe sure to sign-in for the Lifesaver Club once you arrive for your donation so the NROTC Bruin Battalion can earn points!
URL:https://navsci.ucla.edu/event/battle-of-the-branches-blood-drive/
LOCATION:CA
END:VEVENT
BEGIN:VEVENT
DTSTART;TZID=America/Los_Angeles:20201117T160000
DTEND;TZID=America/Los_Angeles:20201117T170000
DTSTAMP:20260424T070057
CREATED:20210107T185220Z
LAST-MODIFIED:20210107T185220Z
UID:628-1605628800-1605632400@navsci.ucla.edu
SUMMARY:Naval Leadership and Service Abroad
DESCRIPTION:Take a journey with the UCLA Naval Reserve Officers Training Corps (ROTC) to explore naval leadership abroad and how study abroad programs help prepare our future naval officers for duty. Guest speakers include commanding officer and department chair\, Colonel Sean McBride\, with special presentations from a few of our Midshipmen and MECEP students\, followed by a brief information session on scholarship opportunities through Naval ROTC. 
URL:https://navsci.ucla.edu/event/naval-leadership-and-service-abroad/
LOCATION:CA
END:VEVENT
END:VCALENDAR