BEGIN:VCALENDAR
VERSION:2.0
PRODID:-//UCLA Naval Science - ECPv6.15.13//NONSGML v1.0//EN
CALSCALE:GREGORIAN
METHOD:PUBLISH
X-WR-CALNAME:UCLA Naval Science
X-ORIGINAL-URL:https://navsci.ucla.edu
X-WR-CALDESC:Events for UCLA Naval Science
REFRESH-INTERVAL;VALUE=DURATION:PT1H
X-Robots-Tag:noindex
X-PUBLISHED-TTL:PT1H
BEGIN:VTIMEZONE
TZID:America/Los_Angeles
BEGIN:DAYLIGHT
TZOFFSETFROM:-0800
TZOFFSETTO:-0700
TZNAME:PDT
DTSTART:20210314T100000
END:DAYLIGHT
BEGIN:STANDARD
TZOFFSETFROM:-0700
TZOFFSETTO:-0800
TZNAME:PST
DTSTART:20211107T090000
END:STANDARD
BEGIN:DAYLIGHT
TZOFFSETFROM:-0800
TZOFFSETTO:-0700
TZNAME:PDT
DTSTART:20220313T100000
END:DAYLIGHT
BEGIN:STANDARD
TZOFFSETFROM:-0700
TZOFFSETTO:-0800
TZNAME:PST
DTSTART:20221106T090000
END:STANDARD
BEGIN:DAYLIGHT
TZOFFSETFROM:-0800
TZOFFSETTO:-0700
TZNAME:PDT
DTSTART:20230312T100000
END:DAYLIGHT
BEGIN:STANDARD
TZOFFSETFROM:-0700
TZOFFSETTO:-0800
TZNAME:PST
DTSTART:20231105T090000
END:STANDARD
END:VTIMEZONE
BEGIN:VEVENT
DTSTART;TZID=America/Los_Angeles:20220907T090000
DTEND;TZID=America/Los_Angeles:20220907T130000
DTSTAMP:20260424T155257
CREATED:20220728T220329Z
LAST-MODIFIED:20220728T220806Z
UID:2698-1662541200-1662555600@navsci.ucla.edu
SUMMARY:Military-Connected High School to College
DESCRIPTION:Join us for an informative day to learn about the ROTC programs\, scholarships\, and resources available for military-connected students at UCLA. \n  \nRepresentatives and presentations to include:\n\nEarly Academic Out Reach Program (EAOP)\nCampus Tours\nAir Force ROTC\nArmy ROTC\nNaval ROTC\nVeteran Services\n\n  \nLunch will be provided. Kindly RSVP to Vicki Sanelli at vksanelli@milsci.ucla.edu by Monday\, August 22\, 2022.  \nParking is available in Structures 4 and 7.  Rates range from $1 for 20-minutes to $14 all day. \nCampus parking map can be viewed at: https://ucla.app.box.com/s/n49sussjcbo6e9s1ljs9j9icc053mqaq
URL:https://navsci.ucla.edu/event/military-connected-high-school-to-college/
LOCATION:Student Activities Center\, 220 Westwood Plaza\, Los Angeles\, CA\, 90095
END:VEVENT
BEGIN:VEVENT
DTSTART;TZID=America/Los_Angeles:20220921T100000
DTEND;TZID=America/Los_Angeles:20220921T140000
DTSTAMP:20260424T155257
CREATED:20220808T184348Z
LAST-MODIFIED:20220808T184348Z
UID:2708-1663754400-1663768800@navsci.ucla.edu
SUMMARY:True Bruin Welcome: Naval Science Open House
DESCRIPTION:Welcome to the Naval Science Department\, home to the Naval ROTC Bruin Battalion! Stop by the Student Activities Center\, Room 120A to meet our active duty officer instructors and midshipmen (current students) to learn about a career in the Navy or Marine Corps as a junior officer\, as well as generous scholarship opportunities. \nThis event is geared toward UCLA undergraduate students.
URL:https://navsci.ucla.edu/event/true-bruin-welcome-naval-science-open-house/
LOCATION:Student Activities Center\, 220 Westwood Plaza\, Los Angeles\, CA\, 90095
END:VEVENT
END:VCALENDAR